BEGIN:VCALENDAR
VERSION:2.0
PRODID:-//Surfmaster - ECPv6.7.0//NONSGML v1.0//EN
CALSCALE:GREGORIAN
METHOD:PUBLISH
X-ORIGINAL-URL:https://surfmaster.ee/en
X-WR-CALDESC:Events for Surfmaster
REFRESH-INTERVAL;VALUE=DURATION:PT1H
X-Robots-Tag:noindex
X-PUBLISHED-TTL:PT1H
BEGIN:VTIMEZONE
TZID:Europe/Tallinn
BEGIN:DAYLIGHT
TZOFFSETFROM:+0200
TZOFFSETTO:+0300
TZNAME:EEST
DTSTART:20250330T010000
END:DAYLIGHT
BEGIN:STANDARD
TZOFFSETFROM:+0300
TZOFFSETTO:+0200
TZNAME:EET
DTSTART:20251026T010000
END:STANDARD
END:VTIMEZONE
BEGIN:VEVENT
DTSTART;TZID=Europe/Tallinn:20250601T110000
DTEND;TZID=Europe/Tallinn:20250601T170000
DTSTAMP:20260422T084012
CREATED:20250501T131512Z
LAST-MODIFIED:20250501T131512Z
UID:5631-1748775600-1748797200@surfmaster.ee
SUMMARY:Lastekaitsepäeva surfamine ja pannkoogi hommik Ranna Surfikülas
DESCRIPTION:Lastekaitsepäeva surfamine ja pannkoogi hommik Ranna Surfikülas \n01.06.2025 | 11:00–15:00 | Ranna Surfiküla\, Hiiumaa\nTule kogu perega tähistama Lastekaitsepäeva ja avatud uste päeva Ranna Surfikülas! Ootame lapsi\, vanemaid ja sõpru veetma päikselist ja elamusterohket päeva mere ääres\, kus ees ootab:\n TASUTA surfitegevused lastele!\n Aerusurfilaua õpe ja surfamine merel. Madalas vees skimboardi katsetused väiksematele. Tuulise ilmaga lennutame rannas õppelohesid! Kõik vajalik varustus meie poolt: kalipso\, päästevest ja varustus – lihtsalt tule ja naudi! Kõiki tegevusi juhendavad kogenud instruktorid Surfmaster surfikoolist.\n Pannkoogihommik surfikohvikus!\nPeale veemöllu ootavad sind soojad pannkoogid ja mõnus olemine Surfikohvikus – väikese tasu eest. \n Asukoht:Ranna Surfiküla\, Ranna\, Suureranna\, Kõrgessaare\, Hiiumaa\, 92225 Kellaaeg: 11:00–15:00\n Meelespea:\nSurfivarustuse kasutamine lastele täiesti tasuta.\nVõta kaasa rätik ja vahetusriided\nPannkoogid ja joogid on saadaval sõbraliku hinnaga kohvikust.\n Tule ja veeda koos meiega üks meeldejääv päev!Värske õhk\, vahvad tegevused ja hea seltskond ootavad sind! Info: Risto Kõrgemägi – 56686766 info@surfmaster.ee www.surfmaster.ee\nKorraldaja: Surfmaster Surfikool – Pühendunud rõõmule\, seiklustele ja elamustele vees!
URL:https://surfmaster.ee/en/kalender/lastekaitsepaeva-surfamine-ja-pannkoogi-hommik-ranna-surfikulas/
CATEGORIES:Muud üritused
END:VEVENT
END:VCALENDAR