BEGIN:VCALENDAR
VERSION:2.0
PRODID:-//Surfmaster - ECPv6.7.0//NONSGML v1.0//EN
CALSCALE:GREGORIAN
METHOD:PUBLISH
X-WR-CALNAME:Surfmaster
X-ORIGINAL-URL:https://surfmaster.ee/en
X-WR-CALDESC:Events for Surfmaster
REFRESH-INTERVAL;VALUE=DURATION:PT1H
X-Robots-Tag:noindex
X-PUBLISHED-TTL:PT1H
BEGIN:VTIMEZONE
TZID:Europe/Tallinn
BEGIN:DAYLIGHT
TZOFFSETFROM:+0200
TZOFFSETTO:+0300
TZNAME:EEST
DTSTART:20220327T010000
END:DAYLIGHT
BEGIN:STANDARD
TZOFFSETFROM:+0300
TZOFFSETTO:+0200
TZNAME:EET
DTSTART:20221030T010000
END:STANDARD
END:VTIMEZONE
BEGIN:VEVENT
DTSTART;VALUE=DATE:20220704
DTEND;VALUE=DATE:20220709
DTSTAMP:20260425T055602
CREATED:20211028T165254Z
LAST-MODIFIED:20220511T054947Z
UID:2027-1656903600-1657249199@surfmaster.ee
SUMMARY:Noorte Surfilaager 2022 Hiiumaal
DESCRIPTION:Noorte Surfilaager 2022 Hiiumaal\nNoorte surfilaagrid 2022 toimuvad looduskaunis Ranna Surfikülas\, mis asub Hiiumaal\, Suurerannas. Laagrites pöörame tähelepanu aktiivsele eluviisile\, loovatele tegevustele ja koostööle\, surfile ja looduses olemisele. Neljal laagripäeval omandavad noored surfamiseks vajalike teoreetilisi ja praktilisi teadmisi.  \nVanusele 13-17 eluaastat. \n295€ soodushind kehtib kuni 10.06.2022 \nKohtade arv laagris on piiratud\, kuni 15 osalejat\, palume aegsasti registreeruda!
URL:https://surfmaster.ee/en/kalender/noorte-surfilaager-2022-3/
CATEGORIES:Noorte surfilaagrid
ATTACH;FMTTYPE=image/jpeg:https://surfmaster.ee/wp-content/uploads/2022/01/IMG_8946-scaled.jpeg
END:VEVENT
END:VCALENDAR