BEGIN:VCALENDAR
VERSION:2.0
PRODID:-//Surfmaster - ECPv6.7.0//NONSGML v1.0//EN
CALSCALE:GREGORIAN
METHOD:PUBLISH
X-ORIGINAL-URL:https://surfmaster.ee/en
X-WR-CALDESC:Events for Surfmaster
REFRESH-INTERVAL;VALUE=DURATION:PT1H
X-Robots-Tag:noindex
X-PUBLISHED-TTL:PT1H
BEGIN:VTIMEZONE
TZID:Europe/Tallinn
BEGIN:DAYLIGHT
TZOFFSETFROM:+0200
TZOFFSETTO:+0300
TZNAME:EEST
DTSTART:20250330T010000
END:DAYLIGHT
BEGIN:STANDARD
TZOFFSETFROM:+0300
TZOFFSETTO:+0200
TZNAME:EET
DTSTART:20251026T010000
END:STANDARD
END:VTIMEZONE
BEGIN:VEVENT
DTSTART;TZID=Europe/Tallinn:20250601T110000
DTEND;TZID=Europe/Tallinn:20250601T170000
DTSTAMP:20260422T084031
CREATED:20250501T131512Z
LAST-MODIFIED:20250501T131512Z
UID:5631-1748775600-1748797200@surfmaster.ee
SUMMARY:Lastekaitsepäeva surfamine ja pannkoogi hommik Ranna Surfikülas
DESCRIPTION:Lastekaitsepäeva surfamine ja pannkoogi hommik Ranna Surfikülas \n01.06.2025 | 11:00–15:00 | Ranna Surfiküla\, Hiiumaa\nTule kogu perega tähistama Lastekaitsepäeva ja avatud uste päeva Ranna Surfikülas! Ootame lapsi\, vanemaid ja sõpru veetma päikselist ja elamusterohket päeva mere ääres\, kus ees ootab:\n TASUTA surfitegevused lastele!\n Aerusurfilaua õpe ja surfamine merel. Madalas vees skimboardi katsetused väiksematele. Tuulise ilmaga lennutame rannas õppelohesid! Kõik vajalik varustus meie poolt: kalipso\, päästevest ja varustus – lihtsalt tule ja naudi! Kõiki tegevusi juhendavad kogenud instruktorid Surfmaster surfikoolist.\n Pannkoogihommik surfikohvikus!\nPeale veemöllu ootavad sind soojad pannkoogid ja mõnus olemine Surfikohvikus – väikese tasu eest. \n Asukoht:Ranna Surfiküla\, Ranna\, Suureranna\, Kõrgessaare\, Hiiumaa\, 92225 Kellaaeg: 11:00–15:00\n Meelespea:\nSurfivarustuse kasutamine lastele täiesti tasuta.\nVõta kaasa rätik ja vahetusriided\nPannkoogid ja joogid on saadaval sõbraliku hinnaga kohvikust.\n Tule ja veeda koos meiega üks meeldejääv päev!Värske õhk\, vahvad tegevused ja hea seltskond ootavad sind! Info: Risto Kõrgemägi – 56686766 info@surfmaster.ee www.surfmaster.ee\nKorraldaja: Surfmaster Surfikool – Pühendunud rõõmule\, seiklustele ja elamustele vees!
URL:https://surfmaster.ee/en/kalender/lastekaitsepaeva-surfamine-ja-pannkoogi-hommik-ranna-surfikulas/
CATEGORIES:Muud üritused
END:VEVENT
BEGIN:VEVENT
DTSTART;TZID=Europe/Tallinn:20250613T080000
DTEND;TZID=Europe/Tallinn:20250615T170000
DTSTAMP:20260422T084031
CREATED:20250205T091400Z
LAST-MODIFIED:20250205T091400Z
UID:5518-1749801600-1750006800@surfmaster.ee
SUMMARY:Surfi\, jooga ja vabastava hingamise laager 2025 “TÕSTA OMA TUJU”
DESCRIPTION:Surfi\, jooga ja vabastava hingamise laager 2025 “TÕSTA OMA TUJU”\nToimumisajad: \n13-15.06.2025.
URL:https://surfmaster.ee/en/kalender/surfi-jooga-ja-vabastava-hingamise-laager-2025-tosta-oma-tuju/
CATEGORIES:Täiskasvanute laagrid
END:VEVENT
BEGIN:VEVENT
DTSTART;TZID=Europe/Tallinn:20250622T180000
DTEND;TZID=Europe/Tallinn:20250623T233000
DTSTAMP:20260422T084031
CREATED:20250501T131653Z
LAST-MODIFIED:20250528T061806Z
UID:5633-1750615200-1750721400@surfmaster.ee
SUMMARY:Jaanipäev Ranna Surfikülas 2025.
DESCRIPTION:Jaanipäev Ranna Surfikülas 2025.\n 22.06.2025 Ranna Surfiküla\, Suureranna\, Hiiumaa Üritus on KÕIGILE TASUTA!\n Suvi algab Ranna Surfikülast! Tähistame jaanipäeva surfistiilis ja avame ametlikult Ranna Surfiküla 2025. aasta suvehooaja. Tule üksi\, perega või kogu kambaga – siin leidub midagi igale hiidlasele!\n MIDA TEEME?Jaanilõke 22.06. mere ääres – ehe jaanituli Suureranna rannas\nSaun ja terviseleil – just nii\, nagu hiidlased armastavad!\nHiidlase köie- ja kummikuvõistlused – tõmba\, viska ja naera!\nSõnajalaõie ja jaaniussikese otsing – müstikat jaanipäevaõhtuks\nLusikajooks hiidlase kombel – pane end proovile!\nTants lõkke ääres ja puhkus rannal – ela nagu Hiiumaal kombeks\n ERIPAKKUMINE! Aerusurfi matk (SUP) loojangusse Kell 20.00–21.30 20 €/osaleja (hind sisaldab varustust ja instruktorit) Min. 5 osalejat Broneeri: info@surfmaster.ee |  56686766\n Lastele TASUTASKIMBOARD-i rent terve päeva vältel!ZIPLINE rada surfiküla hoovis.\nRANNANIIDUL kõigile TASUTA– Rannatennis– Discgolf– Korvpall\, jalgpall\n Surfivarustuse rent väikese tasu eest:– Aerusurf 15 €/h– Mega SUP 35 €/h– Järelveetava rõnga\, banaani sõit paadi taga 70 €/ 15 min.– Surfikoolitused – vastavalt hinnakirjale (vajalik broneerimine) info@surfmaster.ee |  56686766 (Risto)https://surfmaster.ee/surfikoolitus/\n Ööbimine ja toitlustus. Võimalus ööbida Ranna Surfikülas glamping-telkides või majas – küsi saadavust: info@allclean.ee |  5071378 (Riho)\n Surfikohvik ja baar on avatud! Tasumine sularahas või kaardiga.\n Tule ja saa osa tõelisest Hiiu jaanimöllust – looduse\, surfamise ja hea huumori saatel. Isegi saarlased lubasid tulla \n Lisa end “Going” ja jaga sõpradega – kohtume Hiiumaal! SUVI JA PUHKUS ON HIIUMAAL!
URL:https://surfmaster.ee/en/kalender/jaanipaev-ranna-surfikulas-2025/
CATEGORIES:Muud üritused
END:VEVENT
BEGIN:VEVENT
DTSTART;TZID=Europe/Tallinn:20250628T080000
DTEND;TZID=Europe/Tallinn:20250629T170000
DTSTAMP:20260422T084031
CREATED:20250205T091534Z
LAST-MODIFIED:20250205T091534Z
UID:5520-1751097600-1751216400@surfmaster.ee
SUMMARY:Isa ja laps surfilaager Hiiumaal 2025.
DESCRIPTION:Isa ja laps surfilaager Hiiumaal 2025.\nLaagrisse on oodatud isad ja lapsed vanuses 4-12 aastat. \nToimumise ajad: \n28-29.06.2025. \n12-13.07.2025. \n16-17.08.2025
URL:https://surfmaster.ee/en/kalender/isa-ja-laps-surfilaager-hiiumaal-2025/
CATEGORIES:Muud üritused
END:VEVENT
END:VCALENDAR